BEGIN:VCALENDAR
VERSION:2.0
PRODID:-//wp-events-plugin.com//7.2.3.1//EN
TZID:Europe/Amsterdam
X-WR-TIMEZONE:Europe/Amsterdam
BEGIN:VEVENT
UID:210@keizersgrachtkerk.nl
DTSTART;TZID=Europe/Amsterdam:20260221T133000
DTEND;TZID=Europe/Amsterdam:20260221T153000
DTSTAMP:20260217T195107Z
URL:https://www.keizersgrachtkerk.nl/events/open-kerk-5/
SUMMARY:GEANNULEERD - Open kerk
DESCRIPTION:De kerk is open voor wie even langs wil komen. Wees welkom voor
  een moment van rust\, mooie muziek of voor een goed gesprek.
ATTACH;FMTTYPE=image/jpeg:https://www.keizersgrachtkerk.nl/wp-content/uplo
 ads/2025/08/aeh20250803-00995-e1761563463121-scaled-e1762449659487.jpg
LOCATION:Keizersgrachtkerk\, Keizersgracht 566\, Amsterdam\, Nederland
X-APPLE-STRUCTURED-LOCATION;VALUE=URI;X-ADDRESS=Keizersgracht 566\, Amsterd
 am\, Nederland;X-APPLE-RADIUS=100;X-TITLE=Keizersgrachtkerk:geo:0,0
END:VEVENT
BEGIN:VTIMEZONE
TZID:Europe/Amsterdam
X-LIC-LOCATION:Europe/Amsterdam
BEGIN:STANDARD
DTSTART:20251026T020000
TZOFFSETFROM:+0200
TZOFFSETTO:+0100
TZNAME:CET
END:STANDARD
END:VTIMEZONE
END:VCALENDAR